BEGIN:VCALENDAR
VERSION:2.0
PRODID:-//Capital Area Behavioral Health Collaborative - ECPv6.15.18//NONSGML v1.0//EN
CALSCALE:GREGORIAN
METHOD:PUBLISH
X-WR-CALNAME:Capital Area Behavioral Health Collaborative
X-ORIGINAL-URL:https://www.cabhc.org
X-WR-CALDESC:Events for Capital Area Behavioral Health Collaborative
REFRESH-INTERVAL;VALUE=DURATION:PT1H
X-Robots-Tag:noindex
X-PUBLISHED-TTL:PT1H
BEGIN:VTIMEZONE
TZID:America/New_York
BEGIN:DAYLIGHT
TZOFFSETFROM:-0500
TZOFFSETTO:-0400
TZNAME:EDT
DTSTART:20230312T070000
END:DAYLIGHT
BEGIN:STANDARD
TZOFFSETFROM:-0400
TZOFFSETTO:-0500
TZNAME:EST
DTSTART:20231105T060000
END:STANDARD
BEGIN:DAYLIGHT
TZOFFSETFROM:-0500
TZOFFSETTO:-0400
TZNAME:EDT
DTSTART:20240310T070000
END:DAYLIGHT
BEGIN:STANDARD
TZOFFSETFROM:-0400
TZOFFSETTO:-0500
TZNAME:EST
DTSTART:20241103T060000
END:STANDARD
BEGIN:DAYLIGHT
TZOFFSETFROM:-0500
TZOFFSETTO:-0400
TZNAME:EDT
DTSTART:20250309T070000
END:DAYLIGHT
BEGIN:STANDARD
TZOFFSETFROM:-0400
TZOFFSETTO:-0500
TZNAME:EST
DTSTART:20251102T060000
END:STANDARD
END:VTIMEZONE
BEGIN:VEVENT
DTSTART;TZID=America/New_York:20240108T120000
DTEND;TZID=America/New_York:20240108T120000
DTSTAMP:20260422T071837
CREATED:20231220T141542Z
LAST-MODIFIED:20231220T141542Z
UID:4012-1704715200-1704715200@www.cabhc.org
SUMMARY:Executive Committee
DESCRIPTION:
URL:https://www.cabhc.org/meeting-calendar/executive-committee-102/
END:VEVENT
BEGIN:VEVENT
DTSTART;TZID=America/New_York:20240112T090000
DTEND;TZID=America/New_York:20240112T090000
DTSTAMP:20260422T071837
CREATED:20231220T141609Z
LAST-MODIFIED:20231220T141609Z
UID:4014-1705050000-1705050000@www.cabhc.org
SUMMARY:Fiscal Committee
DESCRIPTION:
URL:https://www.cabhc.org/meeting-calendar/fiscal-committee-83/
END:VEVENT
BEGIN:VEVENT
DTSTART;TZID=America/New_York:20240116T100000
DTEND;TZID=America/New_York:20240116T100000
DTSTAMP:20260422T071837
CREATED:20231220T141637Z
LAST-MODIFIED:20231220T141637Z
UID:4016-1705399200-1705399200@www.cabhc.org
SUMMARY:Board Meeting
DESCRIPTION:
URL:https://www.cabhc.org/meeting-calendar/board-meeting-102/
END:VEVENT
BEGIN:VEVENT
DTSTART;TZID=America/New_York:20240122T130000
DTEND;TZID=America/New_York:20240122T130000
DTSTAMP:20260422T071837
CREATED:20231220T141708Z
LAST-MODIFIED:20231220T141708Z
UID:4018-1705928400-1705928400@www.cabhc.org
SUMMARY:Management Meeting
DESCRIPTION:
URL:https://www.cabhc.org/meeting-calendar/management-meeting-51/
END:VEVENT
BEGIN:VEVENT
DTSTART;TZID=America/New_York:20240123T100000
DTEND;TZID=America/New_York:20240123T100000
DTSTAMP:20260422T071837
CREATED:20231220T141735Z
LAST-MODIFIED:20231220T141735Z
UID:4020-1706004000-1706004000@www.cabhc.org
SUMMARY:D&A Workgroup
DESCRIPTION:
URL:https://www.cabhc.org/meeting-calendar/da-workgroup-31/
END:VEVENT
BEGIN:VEVENT
DTSTART;TZID=America/New_York:20240125T130000
DTEND;TZID=America/New_York:20240125T130000
DTSTAMP:20260422T071837
CREATED:20231220T141806Z
LAST-MODIFIED:20231220T141816Z
UID:4022-1706187600-1706187600@www.cabhc.org
SUMMARY:OMHSAS Monitoring Meeting
DESCRIPTION:
URL:https://www.cabhc.org/meeting-calendar/omhsas-monitoring-meeting-19/
END:VEVENT
END:VCALENDAR