BEGIN:VCALENDAR
VERSION:2.0
PRODID:-//Capital Area Behavioral Health Collaborative - ECPv6.15.18//NONSGML v1.0//EN
CALSCALE:GREGORIAN
METHOD:PUBLISH
X-WR-CALNAME:Capital Area Behavioral Health Collaborative
X-ORIGINAL-URL:https://www.cabhc.org
X-WR-CALDESC:Events for Capital Area Behavioral Health Collaborative
REFRESH-INTERVAL;VALUE=DURATION:PT1H
X-Robots-Tag:noindex
X-PUBLISHED-TTL:PT1H
BEGIN:VTIMEZONE
TZID:America/New_York
BEGIN:DAYLIGHT
TZOFFSETFROM:-0500
TZOFFSETTO:-0400
TZNAME:EDT
DTSTART:20230312T070000
END:DAYLIGHT
BEGIN:STANDARD
TZOFFSETFROM:-0400
TZOFFSETTO:-0500
TZNAME:EST
DTSTART:20231105T060000
END:STANDARD
BEGIN:DAYLIGHT
TZOFFSETFROM:-0500
TZOFFSETTO:-0400
TZNAME:EDT
DTSTART:20240310T070000
END:DAYLIGHT
BEGIN:STANDARD
TZOFFSETFROM:-0400
TZOFFSETTO:-0500
TZNAME:EST
DTSTART:20241103T060000
END:STANDARD
BEGIN:DAYLIGHT
TZOFFSETFROM:-0500
TZOFFSETTO:-0400
TZNAME:EDT
DTSTART:20250309T070000
END:DAYLIGHT
BEGIN:STANDARD
TZOFFSETFROM:-0400
TZOFFSETTO:-0500
TZNAME:EST
DTSTART:20251102T060000
END:STANDARD
END:VTIMEZONE
BEGIN:VEVENT
DTSTART;TZID=America/New_York:20240208T140000
DTEND;TZID=America/New_York:20240208T140000
DTSTAMP:20260422T052757
CREATED:20240122T143016Z
LAST-MODIFIED:20240122T143016Z
UID:4031-1707400800-1707400800@www.cabhc.org
SUMMARY:Provider Relations Committee
DESCRIPTION:
URL:https://www.cabhc.org/meeting-calendar/provider-relations-committee-28/
END:VEVENT
BEGIN:VEVENT
DTSTART;TZID=America/New_York:20240212T120000
DTEND;TZID=America/New_York:20240212T120000
DTSTAMP:20260422T052757
CREATED:20240122T143048Z
LAST-MODIFIED:20240122T143048Z
UID:4033-1707739200-1707739200@www.cabhc.org
SUMMARY:Executive Committee
DESCRIPTION:
URL:https://www.cabhc.org/meeting-calendar/executive-committee-103/
END:VEVENT
BEGIN:VEVENT
DTSTART;TZID=America/New_York:20240216T090000
DTEND;TZID=America/New_York:20240216T090000
DTSTAMP:20260422T052757
CREATED:20240122T143118Z
LAST-MODIFIED:20240122T143118Z
UID:4035-1708074000-1708074000@www.cabhc.org
SUMMARY:Fiscal Committee
DESCRIPTION:
URL:https://www.cabhc.org/meeting-calendar/fiscal-committee-84/
END:VEVENT
BEGIN:VEVENT
DTSTART;TZID=America/New_York:20240220T100000
DTEND;TZID=America/New_York:20240220T100000
DTSTAMP:20260422T052757
CREATED:20240122T143146Z
LAST-MODIFIED:20240122T143146Z
UID:4037-1708423200-1708423200@www.cabhc.org
SUMMARY:Board Meeting
DESCRIPTION:
URL:https://www.cabhc.org/meeting-calendar/board-meeting-103/
END:VEVENT
BEGIN:VEVENT
DTSTART;TZID=America/New_York:20240226T100000
DTEND;TZID=America/New_York:20240226T100000
DTSTAMP:20260422T052757
CREATED:20240122T143216Z
LAST-MODIFIED:20240122T143216Z
UID:4039-1708941600-1708941600@www.cabhc.org
SUMMARY:Consumer Family Focus Committee
DESCRIPTION:
URL:https://www.cabhc.org/meeting-calendar/consumer-family-focus-committee-48/
END:VEVENT
BEGIN:VEVENT
DTSTART;TZID=America/New_York:20240226T130000
DTEND;TZID=America/New_York:20240226T130000
DTSTAMP:20260422T052757
CREATED:20240122T143246Z
LAST-MODIFIED:20240122T143246Z
UID:4041-1708952400-1708952400@www.cabhc.org
SUMMARY:Management Meeting
DESCRIPTION:
URL:https://www.cabhc.org/meeting-calendar/management-meeting-52/
END:VEVENT
END:VCALENDAR