BEGIN:VCALENDAR
VERSION:2.0
PRODID:-//Capital Area Behavioral Health Collaborative - ECPv6.15.18//NONSGML v1.0//EN
CALSCALE:GREGORIAN
METHOD:PUBLISH
X-WR-CALNAME:Capital Area Behavioral Health Collaborative
X-ORIGINAL-URL:https://www.cabhc.org
X-WR-CALDESC:Events for Capital Area Behavioral Health Collaborative
REFRESH-INTERVAL;VALUE=DURATION:PT1H
X-Robots-Tag:noindex
X-PUBLISHED-TTL:PT1H
BEGIN:VTIMEZONE
TZID:America/New_York
BEGIN:DAYLIGHT
TZOFFSETFROM:-0500
TZOFFSETTO:-0400
TZNAME:EDT
DTSTART:20230312T070000
END:DAYLIGHT
BEGIN:STANDARD
TZOFFSETFROM:-0400
TZOFFSETTO:-0500
TZNAME:EST
DTSTART:20231105T060000
END:STANDARD
BEGIN:DAYLIGHT
TZOFFSETFROM:-0500
TZOFFSETTO:-0400
TZNAME:EDT
DTSTART:20240310T070000
END:DAYLIGHT
BEGIN:STANDARD
TZOFFSETFROM:-0400
TZOFFSETTO:-0500
TZNAME:EST
DTSTART:20241103T060000
END:STANDARD
BEGIN:DAYLIGHT
TZOFFSETFROM:-0500
TZOFFSETTO:-0400
TZNAME:EDT
DTSTART:20250309T070000
END:DAYLIGHT
BEGIN:STANDARD
TZOFFSETFROM:-0400
TZOFFSETTO:-0500
TZNAME:EST
DTSTART:20251102T060000
END:STANDARD
END:VTIMEZONE
BEGIN:VEVENT
DTSTART;TZID=America/New_York:20240402T130000
DTEND;TZID=America/New_York:20240402T130000
DTSTAMP:20260422T011832
CREATED:20240322T154316Z
LAST-MODIFIED:20240322T154316Z
UID:4087-1712062800-1712062800@www.cabhc.org
SUMMARY:Clinical Committee
DESCRIPTION:
URL:https://www.cabhc.org/meeting-calendar/clinical-committee-90/
END:VEVENT
BEGIN:VEVENT
DTSTART;TZID=America/New_York:20240408T120000
DTEND;TZID=America/New_York:20240408T120000
DTSTAMP:20260422T011832
CREATED:20240322T154348Z
LAST-MODIFIED:20240322T154348Z
UID:4089-1712577600-1712577600@www.cabhc.org
SUMMARY:Executive Committee
DESCRIPTION:
URL:https://www.cabhc.org/meeting-calendar/executive-committee-105/
END:VEVENT
BEGIN:VEVENT
DTSTART;TZID=America/New_York:20240412T090000
DTEND;TZID=America/New_York:20240412T090000
DTSTAMP:20260422T011832
CREATED:20240322T154420Z
LAST-MODIFIED:20240322T154420Z
UID:4091-1712912400-1712912400@www.cabhc.org
SUMMARY:Fiscal Committee
DESCRIPTION:
URL:https://www.cabhc.org/meeting-calendar/fiscal-committee-86/
END:VEVENT
BEGIN:VEVENT
DTSTART;TZID=America/New_York:20240415T100000
DTEND;TZID=America/New_York:20240415T100000
DTSTAMP:20260422T011832
CREATED:20240322T154456Z
LAST-MODIFIED:20240322T154456Z
UID:4093-1713175200-1713175200@www.cabhc.org
SUMMARY:Board Meeting
DESCRIPTION:
URL:https://www.cabhc.org/meeting-calendar/board-meeting-105/
END:VEVENT
BEGIN:VEVENT
DTSTART;TZID=America/New_York:20240422T130000
DTEND;TZID=America/New_York:20240422T130000
DTSTAMP:20260422T011832
CREATED:20240322T154529Z
LAST-MODIFIED:20240322T154529Z
UID:4095-1713790800-1713790800@www.cabhc.org
SUMMARY:Management Meeting
DESCRIPTION:
URL:https://www.cabhc.org/meeting-calendar/management-meeting-54/
END:VEVENT
BEGIN:VEVENT
DTSTART;TZID=America/New_York:20240423T093000
DTEND;TZID=America/New_York:20240423T093000
DTSTAMP:20260422T011832
CREATED:20240322T154558Z
LAST-MODIFIED:20240322T154558Z
UID:4097-1713864600-1713864600@www.cabhc.org
SUMMARY:Provider Relations
DESCRIPTION:
URL:https://www.cabhc.org/meeting-calendar/provider-relations/
END:VEVENT
BEGIN:VEVENT
DTSTART;TZID=America/New_York:20240429T100000
DTEND;TZID=America/New_York:20240429T100000
DTSTAMP:20260422T011832
CREATED:20240322T154632Z
LAST-MODIFIED:20240322T154632Z
UID:4099-1714384800-1714384800@www.cabhc.org
SUMMARY:Consumer Family Focus Committee
DESCRIPTION:
URL:https://www.cabhc.org/meeting-calendar/consumer-family-focus-committee-49/
END:VEVENT
END:VCALENDAR