BEGIN:VCALENDAR
VERSION:2.0
PRODID:-//Capital Area Behavioral Health Collaborative - ECPv6.15.18//NONSGML v1.0//EN
CALSCALE:GREGORIAN
METHOD:PUBLISH
X-ORIGINAL-URL:https://www.cabhc.org
X-WR-CALDESC:Events for Capital Area Behavioral Health Collaborative
REFRESH-INTERVAL;VALUE=DURATION:PT1H
X-Robots-Tag:noindex
X-PUBLISHED-TTL:PT1H
BEGIN:VTIMEZONE
TZID:America/New_York
BEGIN:DAYLIGHT
TZOFFSETFROM:-0500
TZOFFSETTO:-0400
TZNAME:EDT
DTSTART:20230312T070000
END:DAYLIGHT
BEGIN:STANDARD
TZOFFSETFROM:-0400
TZOFFSETTO:-0500
TZNAME:EST
DTSTART:20231105T060000
END:STANDARD
BEGIN:DAYLIGHT
TZOFFSETFROM:-0500
TZOFFSETTO:-0400
TZNAME:EDT
DTSTART:20240310T070000
END:DAYLIGHT
BEGIN:STANDARD
TZOFFSETFROM:-0400
TZOFFSETTO:-0500
TZNAME:EST
DTSTART:20241103T060000
END:STANDARD
BEGIN:DAYLIGHT
TZOFFSETFROM:-0500
TZOFFSETTO:-0400
TZNAME:EDT
DTSTART:20250309T070000
END:DAYLIGHT
BEGIN:STANDARD
TZOFFSETFROM:-0400
TZOFFSETTO:-0500
TZNAME:EST
DTSTART:20251102T060000
END:STANDARD
END:VTIMEZONE
BEGIN:VEVENT
DTSTART;TZID=America/New_York:20240708T120000
DTEND;TZID=America/New_York:20240708T120000
DTSTAMP:20260421T200226
CREATED:20240620T175015Z
LAST-MODIFIED:20240620T175015Z
UID:4153-1720440000-1720440000@www.cabhc.org
SUMMARY:Executive Committee
DESCRIPTION:
URL:https://www.cabhc.org/meeting-calendar/executive-committee-108/
END:VEVENT
BEGIN:VEVENT
DTSTART;TZID=America/New_York:20240711T090000
DTEND;TZID=America/New_York:20240711T090000
DTSTAMP:20260421T200226
CREATED:20240620T175229Z
LAST-MODIFIED:20240620T175229Z
UID:4155-1720688400-1720688400@www.cabhc.org
SUMMARY:Fiscal Committee
DESCRIPTION:
URL:https://www.cabhc.org/meeting-calendar/fiscal-committee-88/
END:VEVENT
BEGIN:VEVENT
DTSTART;TZID=America/New_York:20240715T100000
DTEND;TZID=America/New_York:20240715T100000
DTSTAMP:20260421T200226
CREATED:20240620T175256Z
LAST-MODIFIED:20240620T175256Z
UID:4157-1721037600-1721037600@www.cabhc.org
SUMMARY:Board Meeting
DESCRIPTION:
URL:https://www.cabhc.org/meeting-calendar/board-meeting-108/
END:VEVENT
BEGIN:VEVENT
DTSTART;TZID=America/New_York:20240722T160000
DTEND;TZID=America/New_York:20240722T160000
DTSTAMP:20260421T200226
CREATED:20240620T175335Z
LAST-MODIFIED:20240620T175335Z
UID:4159-1721664000-1721664000@www.cabhc.org
SUMMARY:Manager's Meeting
DESCRIPTION:
URL:https://www.cabhc.org/meeting-calendar/managers-meeting-43/
END:VEVENT
BEGIN:VEVENT
DTSTART;TZID=America/New_York:20240723T100000
DTEND;TZID=America/New_York:20240723T100000
DTSTAMP:20260421T200226
CREATED:20240620T175406Z
LAST-MODIFIED:20240620T175406Z
UID:4161-1721728800-1721728800@www.cabhc.org
SUMMARY:D&A Workgroup
DESCRIPTION:
URL:https://www.cabhc.org/meeting-calendar/da-workgroup-34/
END:VEVENT
END:VCALENDAR