BEGIN:VCALENDAR
VERSION:2.0
PRODID:-//Capital Area Behavioral Health Collaborative - ECPv6.15.18//NONSGML v1.0//EN
CALSCALE:GREGORIAN
METHOD:PUBLISH
X-ORIGINAL-URL:https://www.cabhc.org
X-WR-CALDESC:Events for Capital Area Behavioral Health Collaborative
REFRESH-INTERVAL;VALUE=DURATION:PT1H
X-Robots-Tag:noindex
X-PUBLISHED-TTL:PT1H
BEGIN:VTIMEZONE
TZID:America/New_York
BEGIN:DAYLIGHT
TZOFFSETFROM:-0500
TZOFFSETTO:-0400
TZNAME:EDT
DTSTART:20230312T070000
END:DAYLIGHT
BEGIN:STANDARD
TZOFFSETFROM:-0400
TZOFFSETTO:-0500
TZNAME:EST
DTSTART:20231105T060000
END:STANDARD
BEGIN:DAYLIGHT
TZOFFSETFROM:-0500
TZOFFSETTO:-0400
TZNAME:EDT
DTSTART:20240310T070000
END:DAYLIGHT
BEGIN:STANDARD
TZOFFSETFROM:-0400
TZOFFSETTO:-0500
TZNAME:EST
DTSTART:20241103T060000
END:STANDARD
BEGIN:DAYLIGHT
TZOFFSETFROM:-0500
TZOFFSETTO:-0400
TZNAME:EDT
DTSTART:20250309T070000
END:DAYLIGHT
BEGIN:STANDARD
TZOFFSETFROM:-0400
TZOFFSETTO:-0500
TZNAME:EST
DTSTART:20251102T060000
END:STANDARD
END:VTIMEZONE
BEGIN:VEVENT
DTSTART;TZID=America/New_York:20241203T130000
DTEND;TZID=America/New_York:20241203T130000
DTSTAMP:20260421T095644
CREATED:20241122T163116Z
LAST-MODIFIED:20241122T163116Z
UID:4315-1733230800-1733230800@www.cabhc.org
SUMMARY:Clinical Committee
DESCRIPTION:
URL:https://www.cabhc.org/meeting-calendar/clinical-committee-10/
END:VEVENT
BEGIN:VEVENT
DTSTART;TZID=America/New_York:20241205T140000
DTEND;TZID=America/New_York:20241205T140000
DTSTAMP:20260421T095644
CREATED:20241122T163146Z
LAST-MODIFIED:20241122T163146Z
UID:4317-1733407200-1733407200@www.cabhc.org
SUMMARY:Provider Relations Committee
DESCRIPTION:
URL:https://www.cabhc.org/meeting-calendar/provider-relations-committee-32/
END:VEVENT
BEGIN:VEVENT
DTSTART;TZID=America/New_York:20241209T120000
DTEND;TZID=America/New_York:20241209T120000
DTSTAMP:20260421T095644
CREATED:20241122T163211Z
LAST-MODIFIED:20241122T163211Z
UID:4319-1733745600-1733745600@www.cabhc.org
SUMMARY:Executive Committee
DESCRIPTION:
URL:https://www.cabhc.org/meeting-calendar/executive-committee-11/
END:VEVENT
BEGIN:VEVENT
DTSTART;TZID=America/New_York:20241213T090000
DTEND;TZID=America/New_York:20241213T090000
DTSTAMP:20260421T095644
CREATED:20241122T163236Z
LAST-MODIFIED:20241122T163236Z
UID:4321-1734080400-1734080400@www.cabhc.org
SUMMARY:Fiscal Committee
DESCRIPTION:
URL:https://www.cabhc.org/meeting-calendar/fiscal-committee-10/
END:VEVENT
BEGIN:VEVENT
DTSTART;TZID=America/New_York:20241216T100000
DTEND;TZID=America/New_York:20241216T100000
DTSTAMP:20260421T095644
CREATED:20241122T163258Z
LAST-MODIFIED:20241122T163258Z
UID:4323-1734343200-1734343200@www.cabhc.org
SUMMARY:Board Meeting
DESCRIPTION:
URL:https://www.cabhc.org/meeting-calendar/board-meeting-10/
END:VEVENT
BEGIN:VEVENT
DTSTART;TZID=America/New_York:20241219T130000
DTEND;TZID=America/New_York:20241219T130000
DTSTAMP:20260421T095644
CREATED:20241122T163329Z
LAST-MODIFIED:20241122T163329Z
UID:4325-1734613200-1734613200@www.cabhc.org
SUMMARY:OMHSAS Monitoring Meeting
DESCRIPTION:
URL:https://www.cabhc.org/meeting-calendar/omhsas-monitoring-meeting-2/
END:VEVENT
BEGIN:VEVENT
DTSTART;TZID=America/New_York:20241223T100000
DTEND;TZID=America/New_York:20241223T100000
DTSTAMP:20260421T095644
CREATED:20241122T163357Z
LAST-MODIFIED:20241122T163357Z
UID:4327-1734948000-1734948000@www.cabhc.org
SUMMARY:Consumer Family Focus Committee
DESCRIPTION:
URL:https://www.cabhc.org/meeting-calendar/consumer-family-focus-committee-5/
END:VEVENT
BEGIN:VEVENT
DTSTART;TZID=America/New_York:20241223T130000
DTEND;TZID=America/New_York:20241223T130000
DTSTAMP:20260421T095644
CREATED:20241122T163422Z
LAST-MODIFIED:20241122T163422Z
UID:4329-1734958800-1734958800@www.cabhc.org
SUMMARY:Manager's Meeting
DESCRIPTION:
URL:https://www.cabhc.org/meeting-calendar/managers-meeting-10/
END:VEVENT
END:VCALENDAR