BEGIN:VCALENDAR
VERSION:2.0
PRODID:-//Capital Area Behavioral Health Collaborative - ECPv6.15.18//NONSGML v1.0//EN
CALSCALE:GREGORIAN
METHOD:PUBLISH
X-ORIGINAL-URL:https://www.cabhc.org
X-WR-CALDESC:Events for Capital Area Behavioral Health Collaborative
REFRESH-INTERVAL;VALUE=DURATION:PT1H
X-Robots-Tag:noindex
X-PUBLISHED-TTL:PT1H
BEGIN:VTIMEZONE
TZID:America/New_York
BEGIN:DAYLIGHT
TZOFFSETFROM:-0500
TZOFFSETTO:-0400
TZNAME:EDT
DTSTART:20250309T070000
END:DAYLIGHT
BEGIN:STANDARD
TZOFFSETFROM:-0400
TZOFFSETTO:-0500
TZNAME:EST
DTSTART:20251102T060000
END:STANDARD
BEGIN:DAYLIGHT
TZOFFSETFROM:-0500
TZOFFSETTO:-0400
TZNAME:EDT
DTSTART:20260308T070000
END:DAYLIGHT
BEGIN:STANDARD
TZOFFSETFROM:-0400
TZOFFSETTO:-0500
TZNAME:EST
DTSTART:20261101T060000
END:STANDARD
BEGIN:DAYLIGHT
TZOFFSETFROM:-0500
TZOFFSETTO:-0400
TZNAME:EDT
DTSTART:20270314T070000
END:DAYLIGHT
BEGIN:STANDARD
TZOFFSETFROM:-0400
TZOFFSETTO:-0500
TZNAME:EST
DTSTART:20271107T060000
END:STANDARD
END:VTIMEZONE
BEGIN:VEVENT
DTSTART;TZID=America/New_York:20260309T120000
DTEND;TZID=America/New_York:20260309T120000
DTSTAMP:20260421T092802
CREATED:20260218T194806Z
LAST-MODIFIED:20260218T194806Z
UID:4662-1773057600-1773057600@www.cabhc.org
SUMMARY:Executive Committee
DESCRIPTION:
URL:https://www.cabhc.org/meeting-calendar/executive-committee-120/
END:VEVENT
BEGIN:VEVENT
DTSTART;TZID=America/New_York:20260313T090000
DTEND;TZID=America/New_York:20260313T090000
DTSTAMP:20260421T092802
CREATED:20260218T194917Z
LAST-MODIFIED:20260218T194917Z
UID:4664-1773392400-1773392400@www.cabhc.org
SUMMARY:Fiscal Committee
DESCRIPTION:
URL:https://www.cabhc.org/meeting-calendar/fiscal-committee-101/
END:VEVENT
BEGIN:VEVENT
DTSTART;TZID=America/New_York:20260316T100000
DTEND;TZID=America/New_York:20260316T100000
DTSTAMP:20260421T092802
CREATED:20260218T194959Z
LAST-MODIFIED:20260218T194959Z
UID:4666-1773655200-1773655200@www.cabhc.org
SUMMARY:Board Meeting
DESCRIPTION:
URL:https://www.cabhc.org/meeting-calendar/board-meeting-119/
END:VEVENT
BEGIN:VEVENT
DTSTART;TZID=America/New_York:20260323T130000
DTEND;TZID=America/New_York:20260323T130000
DTSTAMP:20260421T092802
CREATED:20260218T195339Z
LAST-MODIFIED:20260218T195339Z
UID:4670-1774270800-1774270800@www.cabhc.org
SUMMARY:Management Meeting
DESCRIPTION:
URL:https://www.cabhc.org/meeting-calendar/management-meeting-64/
END:VEVENT
BEGIN:VEVENT
DTSTART;TZID=America/New_York:20260324T100000
DTEND;TZID=America/New_York:20260324T100000
DTSTAMP:20260421T092802
CREATED:20260218T195148Z
LAST-MODIFIED:20260218T195148Z
UID:4668-1774346400-1774346400@www.cabhc.org
SUMMARY:D&A Workgroup
DESCRIPTION:
URL:https://www.cabhc.org/meeting-calendar/da-workgroup-42/
END:VEVENT
END:VCALENDAR